BEGIN:VCALENDAR
VERSION:2.0
PRODID:-//Schola Europaea Luxembourg I - ECPv6.15.20//NONSGML v1.0//EN
CALSCALE:GREGORIAN
METHOD:PUBLISH
X-WR-CALNAME:Schola Europaea Luxembourg I
X-ORIGINAL-URL:https://www.euroschool.lu/site
X-WR-CALDESC:Events for Schola Europaea Luxembourg I
REFRESH-INTERVAL;VALUE=DURATION:PT1H
X-Robots-Tag:noindex
X-PUBLISHED-TTL:PT1H
BEGIN:VTIMEZONE
TZID:Europe/Luxembourg
BEGIN:DAYLIGHT
TZOFFSETFROM:+0100
TZOFFSETTO:+0200
TZNAME:CEST
DTSTART:20240331T010000
END:DAYLIGHT
BEGIN:STANDARD
TZOFFSETFROM:+0200
TZOFFSETTO:+0100
TZNAME:CET
DTSTART:20241027T010000
END:STANDARD
BEGIN:DAYLIGHT
TZOFFSETFROM:+0100
TZOFFSETTO:+0200
TZNAME:CEST
DTSTART:20250330T010000
END:DAYLIGHT
BEGIN:STANDARD
TZOFFSETFROM:+0200
TZOFFSETTO:+0100
TZNAME:CET
DTSTART:20251026T010000
END:STANDARD
BEGIN:DAYLIGHT
TZOFFSETFROM:+0100
TZOFFSETTO:+0200
TZNAME:CEST
DTSTART:20260329T010000
END:DAYLIGHT
BEGIN:STANDARD
TZOFFSETFROM:+0200
TZOFFSETTO:+0100
TZNAME:CET
DTSTART:20261025T010000
END:STANDARD
BEGIN:DAYLIGHT
TZOFFSETFROM:+0100
TZOFFSETTO:+0200
TZNAME:CEST
DTSTART:20270328T010000
END:DAYLIGHT
BEGIN:STANDARD
TZOFFSETFROM:+0200
TZOFFSETTO:+0100
TZNAME:CET
DTSTART:20271031T010000
END:STANDARD
END:VTIMEZONE
BEGIN:VEVENT
DTSTART;VALUE=DATE:20260216
DTEND;VALUE=DATE:20260221
DTSTAMP:20260425T170855
CREATED:20230825T181318Z
LAST-MODIFIED:20250708T095418Z
UID:16882-1771200000-1771631999@www.euroschool.lu
SUMMARY:Carnaval / Carnival / Fastnacht
DESCRIPTION:
URL:https://www.euroschool.lu/site/event/carnaval-carnival-fastnacht/
CATEGORIES:holidays
END:VEVENT
BEGIN:VEVENT
DTSTART;VALUE=DATE:20251222
DTEND;VALUE=DATE:20260103
DTSTAMP:20260425T170855
CREATED:20230825T181232Z
LAST-MODIFIED:20250708T095331Z
UID:16880-1766361600-1767398399@www.euroschool.lu
SUMMARY:Noël / Christmas / Weihnachten
DESCRIPTION:
URL:https://www.euroschool.lu/site/event/noel-christmas-weihnachten/
CATEGORIES:holidays
END:VEVENT
BEGIN:VEVENT
DTSTART;VALUE=DATE:20251103
DTEND;VALUE=DATE:20251108
DTSTAMP:20260425T170855
CREATED:20230825T181148Z
LAST-MODIFIED:20250708T095246Z
UID:16878-1762128000-1762559999@www.euroschool.lu
SUMMARY:Toussaint / All Saints / Allerheiligen
DESCRIPTION:
URL:https://www.euroschool.lu/site/event/toussaint-all-saints-allerheiligen/
CATEGORIES:holidays
END:VEVENT
BEGIN:VEVENT
DTSTART;VALUE=DATE:20251006
DTEND;VALUE=DATE:20251007
DTSTAMP:20260425T170855
CREATED:20230825T181034Z
LAST-MODIFIED:20250708T095205Z
UID:16876-1759708800-1759795199@www.euroschool.lu
SUMMARY:Journée pédagogique / Pedalogical day / Lehrerforbildungstag
DESCRIPTION:
URL:https://www.euroschool.lu/site/event/journee-pedagogique-pedalogical-day-lehrerforbildungstag/
CATEGORIES:holidays
END:VEVENT
BEGIN:VEVENT
DTSTART;VALUE=DATE:20250902
DTEND;VALUE=DATE:20250903
DTSTAMP:20260425T170855
CREATED:20230825T180917Z
LAST-MODIFIED:20250708T095110Z
UID:16874-1756771200-1756857599@www.euroschool.lu
SUMMARY:Rentrée scolaire / Start of school year / Beginn des Schuljahres
DESCRIPTION:
URL:https://www.euroschool.lu/site/event/rentree-scolaire-start-of-school-year-beginn-des-schuljahres/
CATEGORIES:holidays
END:VEVENT
END:VCALENDAR