BEGIN:VCALENDAR
VERSION:2.0
PRODID:-//Schola Europaea Luxembourg I - ECPv5.1.2.1//NONSGML v1.0//EN
CALSCALE:GREGORIAN
METHOD:PUBLISH
X-WR-CALNAME:Schola Europaea Luxembourg I
X-ORIGINAL-URL:http://www.euroschool.lu/site
X-WR-CALDESC:Events for Schola Europaea Luxembourg I
BEGIN:VTIMEZONE
TZID:Europe/Luxembourg
BEGIN:DAYLIGHT
TZOFFSETFROM:+0100
TZOFFSETTO:+0200
TZNAME:CEST
DTSTART:20200329T010000
END:DAYLIGHT
BEGIN:STANDARD
TZOFFSETFROM:+0200
TZOFFSETTO:+0100
TZNAME:CET
DTSTART:20201025T010000
END:STANDARD
END:VTIMEZONE
BEGIN:VEVENT
DTSTART;VALUE=DATE:20200601
DTEND;VALUE=DATE:20200602
DTSTAMP:20211009T063810
CREATED:20191008T215400Z
LAST-MODIFIED:20191008T215513Z
UID:4506-1590969600-1591055999@www.euroschool.lu
SUMMARY:Pentecôte / Whitsun / Pfingsten
DESCRIPTION:
URL:http://www.euroschool.lu/site/event/pentecote-whitsun-pfingsten/
CATEGORIES:holidays
END:VEVENT
END:VCALENDAR