BEGIN:VCALENDAR
VERSION:2.0
PRODID:-//Schola Europaea Luxembourg I - ECPv4.9.5//NONSGML v1.0//EN
CALSCALE:GREGORIAN
METHOD:PUBLISH
X-WR-CALNAME:Schola Europaea Luxembourg I
X-ORIGINAL-URL:http://www.euroschool.lu/site
X-WR-CALDESC:Events for Schola Europaea Luxembourg I
BEGIN:VTIMEZONE
TZID:"Europe/Luxembourg"
BEGIN:DAYLIGHT
TZOFFSETFROM:+0100
TZOFFSETTO:+0200
TZNAME:CEST
DTSTART:20200329T010000
END:DAYLIGHT
BEGIN:STANDARD
TZOFFSETFROM:+0200
TZOFFSETTO:+0100
TZNAME:CET
DTSTART:20201025T010000
END:STANDARD
END:VTIMEZONE
BEGIN:VEVENT
DTSTART;VALUE=DATE:20200501
DTEND;VALUE=DATE:20200502
DTSTAMP:20200125T092609
CREATED:20191008T213926Z
LAST-MODIFIED:20191008T213926Z
UID:4500-1588291200-1588377599@www.euroschool.lu
SUMMARY:Fête du travail / Labour day / Tag der Arbeit
DESCRIPTION:
URL:http://www.euroschool.lu/site/event/fete-du-travail-labour-day-tag-der-arbeit/
CATEGORIES:holidays
END:VEVENT
END:VCALENDAR