BEGIN:VCALENDAR
VERSION:2.0
PRODID:-//Schola Europaea Luxembourg I - ECPv5.1.2.1//NONSGML v1.0//EN
CALSCALE:GREGORIAN
METHOD:PUBLISH
X-WR-CALNAME:Schola Europaea Luxembourg I
X-ORIGINAL-URL:http://www.euroschool.lu/site
X-WR-CALDESC:Events for Schola Europaea Luxembourg I
BEGIN:VTIMEZONE
TZID:Europe/Luxembourg
BEGIN:DAYLIGHT
TZOFFSETFROM:+0100
TZOFFSETTO:+0200
TZNAME:CEST
DTSTART:20220327T010000
END:DAYLIGHT
BEGIN:STANDARD
TZOFFSETFROM:+0200
TZOFFSETTO:+0100
TZNAME:CET
DTSTART:20221030T010000
END:STANDARD
BEGIN:DAYLIGHT
TZOFFSETFROM:+0100
TZOFFSETTO:+0200
TZNAME:CEST
DTSTART:20230326T010000
END:DAYLIGHT
BEGIN:STANDARD
TZOFFSETFROM:+0200
TZOFFSETTO:+0100
TZNAME:CET
DTSTART:20231029T010000
END:STANDARD
END:VTIMEZONE
BEGIN:VEVENT
DTSTART;VALUE=DATE:20220523
DTEND;VALUE=DATE:20230528
DTSTAMP:20211009T065407
CREATED:20210701T120902Z
LAST-MODIFIED:20210701T120902Z
UID:12163-1653264000-1685231999@www.euroschool.lu
SUMMARY:Ascension / Ascension / Christi Himmelfahrt
DESCRIPTION:
URL:http://www.euroschool.lu/site/event/ascension-ascension-christi-himmelfahrt/
END:VEVENT
END:VCALENDAR