BEGIN:VCALENDAR
VERSION:2.0
PRODID:-//Schola Europaea Luxembourg I - ECPv5.1.2.1//NONSGML v1.0//EN
CALSCALE:GREGORIAN
METHOD:PUBLISH
X-WR-CALNAME:Schola Europaea Luxembourg I
X-ORIGINAL-URL:http://www.euroschool.lu/site
X-WR-CALDESC:Events for Schola Europaea Luxembourg I
BEGIN:VTIMEZONE
TZID:Europe/Luxembourg
BEGIN:DAYLIGHT
TZOFFSETFROM:+0100
TZOFFSETTO:+0200
TZNAME:CEST
DTSTART:20210328T010000
END:DAYLIGHT
BEGIN:STANDARD
TZOFFSETFROM:+0200
TZOFFSETTO:+0100
TZNAME:CET
DTSTART:20211031T010000
END:STANDARD
END:VTIMEZONE
BEGIN:VEVENT
DTSTART;VALUE=DATE:20210901
DTEND;VALUE=DATE:20210902
DTSTAMP:20211005T190922
CREATED:20210701T102817Z
LAST-MODIFIED:20210701T102817Z
UID:12147-1630454400-1630540799@www.euroschool.lu
SUMMARY:Rentrée scolaire / Start of school year / Beginn des Schuljahres
DESCRIPTION:
URL:http://www.euroschool.lu/site/event/rentree-scolaire-start-of-school-year-beginn-des-schuljahres/
END:VEVENT
END:VCALENDAR