BEGIN:VCALENDAR
VERSION:2.0
PRODID:-//Schola Europaea Luxembourg I - ECPv5.1.2.1//NONSGML v1.0//EN
CALSCALE:GREGORIAN
METHOD:PUBLISH
X-WR-CALNAME:Schola Europaea Luxembourg I
X-ORIGINAL-URL:http://www.euroschool.lu/site
X-WR-CALDESC:Events for Schola Europaea Luxembourg I
BEGIN:VTIMEZONE
TZID:Europe/Luxembourg
BEGIN:DAYLIGHT
TZOFFSETFROM:+0100
TZOFFSETTO:+0200
TZNAME:CEST
DTSTART:20210328T010000
END:DAYLIGHT
BEGIN:STANDARD
TZOFFSETFROM:+0200
TZOFFSETTO:+0100
TZNAME:CET
DTSTART:20211031T010000
END:STANDARD
END:VTIMEZONE
BEGIN:VEVENT
DTSTART;VALUE=DATE:20211004
DTEND;VALUE=DATE:20211005
DTSTAMP:20211005T190809
CREATED:20210701T103705Z
LAST-MODIFIED:20210701T103705Z
UID:12149-1633305600-1633391999@www.euroschool.lu
SUMMARY:Journée pédagogique / Pedalogical day / Lehrerforbildungstag
DESCRIPTION:
URL:http://www.euroschool.lu/site/event/journee-pedagogique-pedalogical-day-lehrerforbildungstag/
END:VEVENT
END:VCALENDAR